BEGIN:VCALENDAR
METHOD:PUBLISH
VERSION:2.0
CALSCALE:GREGORIAN
BEGIN:VTIMEZONE
TZID:Europe/Paris
BEGIN:DAYLIGHT
TZOFFSETFROM:+0100
RRULE:FREQ=YEARLY;BYMONTH=3;BYDAY=-1SU
DTSTART:19810329T020000
TZNAME:UTC+2
TZOFFSETTO:+0200
END:DAYLIGHT
BEGIN:STANDARD
TZOFFSETFROM:+0200
RRULE:FREQ=YEARLY;BYMONTH=10;BYDAY=-1SU
DTSTART:19961027T030000
TZNAME:UTC+1
TZOFFSETTO:+0100
END:STANDARD
END:VTIMEZONE
BEGIN:VEVENT
UID:6244
DTSTART;TZID=Europe/Paris:20251126T133000
DTEND;TZID=Europe/Paris:20251126T173000
DTSTAMP;TZID=Europe/Paris:20260424T133729
LOCATION:Paris
SUMMARY:Confiance en soi\, industrie et conseil : une après-midi pour s’inspirer
DESCRIPTION:Objectif : Faire découvrir l'industrie et le conseil aux collégiennes à travers des sessions de témoignages et montrer l'importance de la confiance en soi grâce à des ateliers de groupe​ Planning :​  ​13h30 - 30min : Accueil, présentation...
URL;VALUE=URI:https://www.ellesbougent.com/agenda/calendrier/confiance-en-soi-industrie-et-conseil-une-apres-midi-pour-s-inspirer-6244/
SEQUENCE:0
END:VEVENT
END:VCALENDAR
