BEGIN:VCALENDAR
METHOD:PUBLISH
VERSION:2.0
CALSCALE:GREGORIAN
BEGIN:VTIMEZONE
TZID:Europe/Paris
BEGIN:DAYLIGHT
TZOFFSETFROM:+0100
RRULE:FREQ=YEARLY;BYMONTH=3;BYDAY=-1SU
DTSTART:19810329T020000
TZNAME:UTC+2
TZOFFSETTO:+0200
END:DAYLIGHT
BEGIN:STANDARD
TZOFFSETFROM:+0200
RRULE:FREQ=YEARLY;BYMONTH=10;BYDAY=-1SU
DTSTART:19961027T030000
TZNAME:UTC+1
TZOFFSETTO:+0100
END:STANDARD
END:VTIMEZONE
BEGIN:VEVENT
UID:6053
DTSTART;TZID=Europe/Paris:20251128T083000
DTEND;TZID=Europe/Paris:20251128T123000
DTSTAMP;TZID=Europe/Paris:20260424T131158
LOCATION:Aix en Provence
SUMMARY:Conception d'un récif éco responsable
DESCRIPTION:Save the date ! ! ! 🗓️ Matinée du 28 novembre 8h30-11h30 au campus CESI Ecole d'ingénieur·e·s dans notre Fablab ! 🌟Welcome dans cet univers Vous êtes collégiennes ou lycéennes ? 👩🏻‍🏫👩🏽‍🏫👩‍🏫 Votre...
URL;VALUE=URI:https://www.ellesbougent.com/agenda/calendrier/conception-un-recif-eco-responsable-6053/
SEQUENCE:0
END:VEVENT
END:VCALENDAR
