BEGIN:VCALENDAR
METHOD:PUBLISH
VERSION:2.0
CALSCALE:GREGORIAN
BEGIN:VTIMEZONE
TZID:Europe/Paris
BEGIN:DAYLIGHT
TZOFFSETFROM:+0100
RRULE:FREQ=YEARLY;BYMONTH=3;BYDAY=-1SU
DTSTART:19810329T020000
TZNAME:UTC+2
TZOFFSETTO:+0200
END:DAYLIGHT
BEGIN:STANDARD
TZOFFSETFROM:+0200
RRULE:FREQ=YEARLY;BYMONTH=10;BYDAY=-1SU
DTSTART:19961027T030000
TZNAME:UTC+1
TZOFFSETTO:+0100
END:STANDARD
END:VTIMEZONE
BEGIN:VEVENT
UID:6264
DTSTART;TZID=Europe/Paris:20251121T133000
DTEND;TZID=Europe/Paris:20251121T163000
DTSTAMP;TZID=Europe/Paris:20260424T132116
LOCATION:Marseille
SUMMARY:CMA CGM & Elles Bougent pour l'Industrie
DESCRIPTION:13h30 – 14h00 : Café d'accueil pour les jeunes publics et intervenant(e)s – Lobby Auditorium 14h15 – 14h30 (3 min/pers) Introduction– Auditorium - Welcome par(le SVP CSR TBC) et/ ou DRH David Schajer (+ enjeux RSE/RH) - Présentation Marie Sophie...
URL;VALUE=URI:https://www.ellesbougent.com/agenda/calendrier/cma-cgm-elles-bougent-pour-industrie-6264/
SEQUENCE:0
END:VEVENT
END:VCALENDAR
