BEGIN:VCALENDAR
METHOD:PUBLISH
VERSION:2.0
CALSCALE:GREGORIAN
BEGIN:VTIMEZONE
TZID:Europe/Paris
BEGIN:DAYLIGHT
TZOFFSETFROM:+0100
RRULE:FREQ=YEARLY;BYMONTH=3;BYDAY=-1SU
DTSTART:19810329T020000
TZNAME:UTC+2
TZOFFSETTO:+0200
END:DAYLIGHT
BEGIN:STANDARD
TZOFFSETFROM:+0200
RRULE:FREQ=YEARLY;BYMONTH=10;BYDAY=-1SU
DTSTART:19961027T030000
TZNAME:UTC+1
TZOFFSETTO:+0100
END:STANDARD
END:VTIMEZONE
BEGIN:VEVENT
UID:5736
DTSTART;TZID=Europe/Paris:20250313T090000
DTEND;TZID=Europe/Paris:20250313T120000
DTSTAMP;TZID=Europe/Paris:20260424T180704
LOCATION:Saint nazaire
SUMMARY:Chantiers de l'Atlantique / Airbus / MAN / BV/ Eiffage
DESCRIPTION:Les Chantiers de l'atlantique, Airbus, Man, BV et Eiffage vous accueille pour vous faire découvrir les métiers de la mer
URL;VALUE=URI:https://www.ellesbougent.com/agenda/calendrier/chantiers-de-atlantique-airbus-man-bv-eiffage-5736/
SEQUENCE:0
END:VEVENT
END:VCALENDAR
