BEGIN:VCALENDAR
METHOD:PUBLISH
VERSION:2.0
CALSCALE:GREGORIAN
BEGIN:VTIMEZONE
TZID:Europe/Paris
BEGIN:DAYLIGHT
TZOFFSETFROM:+0100
RRULE:FREQ=YEARLY;BYMONTH=3;BYDAY=-1SU
DTSTART:19810329T020000
TZNAME:UTC+2
TZOFFSETTO:+0200
END:DAYLIGHT
BEGIN:STANDARD
TZOFFSETFROM:+0200
RRULE:FREQ=YEARLY;BYMONTH=10;BYDAY=-1SU
DTSTART:19961027T030000
TZNAME:UTC+1
TZOFFSETTO:+0100
END:STANDARD
END:VTIMEZONE
BEGIN:VEVENT
UID:5172
DTSTART;TZID=Europe/Paris:20250327T083000
DTEND;TZID=Europe/Paris:20250327T170000
DTSTAMP;TZID=Europe/Paris:20260424T160455
LOCATION:Toulouse
SUMMARY:Challenge InnovaTech© 2025 Midi Pyrénées: Inscrivez-vous
DESCRIPTION:OUVERTURE DES INSCRIPTIONS LE 06 JANVIER 2025  Organisé par votreDélégation Régionale Midi Pyrénées le Challenge InnovaTech© se tiendra le jeudi 27 mars de 8h30 à 17h00 au Lycée Déodat de Sévérac de Toulouse. Ce Challenge est ouvert aux marraines,...
URL;VALUE=URI:https://www.ellesbougent.com/agenda/calendrier/challenge-innovatech-2025-midi-pyrenees-inscrivez-vous-5172/
SEQUENCE:0
END:VEVENT
END:VCALENDAR
