BEGIN:VCALENDAR
METHOD:PUBLISH
VERSION:2.0
CALSCALE:GREGORIAN
BEGIN:VTIMEZONE
TZID:Europe/Paris
BEGIN:DAYLIGHT
TZOFFSETFROM:+0100
RRULE:FREQ=YEARLY;BYMONTH=3;BYDAY=-1SU
DTSTART:19810329T020000
TZNAME:UTC+2
TZOFFSETTO:+0200
END:DAYLIGHT
BEGIN:STANDARD
TZOFFSETFROM:+0200
RRULE:FREQ=YEARLY;BYMONTH=10;BYDAY=-1SU
DTSTART:19961027T030000
TZNAME:UTC+1
TZOFFSETTO:+0100
END:STANDARD
END:VTIMEZONE
BEGIN:VEVENT
UID:5183
DTSTART;TZID=Europe/Paris:20250403T083000
DTEND;TZID=Europe/Paris:20250403T170000
DTSTAMP;TZID=Europe/Paris:20260424T160831
LOCATION:Ducos - Martinique
SUMMARY:Challenge InnovaTech© 2025 Martinique : Inscrivez-vous
DESCRIPTION:OUVERTURE DES INSCRIPTIONS LE 06 JANVIER 2025  Organisé par votre  Délégation Régionale Martinique, le Challenge InnovaTech© se tiendra le jeudi 03 avril de 8h30 à 17h00 au Lycée Paulette Nardal de Ducos. Ce Challenge est ouvert aux marraines, étudiantes et...
URL;VALUE=URI:https://www.ellesbougent.com/agenda/calendrier/challenge-innovatech-2025-martinique-inscrivez-vous-5183/
SEQUENCE:0
END:VEVENT
END:VCALENDAR
