BEGIN:VCALENDAR
METHOD:PUBLISH
VERSION:2.0
CALSCALE:GREGORIAN
BEGIN:VTIMEZONE
TZID:Europe/Paris
BEGIN:DAYLIGHT
TZOFFSETFROM:+0100
RRULE:FREQ=YEARLY;BYMONTH=3;BYDAY=-1SU
DTSTART:19810329T020000
TZNAME:UTC+2
TZOFFSETTO:+0200
END:DAYLIGHT
BEGIN:STANDARD
TZOFFSETFROM:+0200
RRULE:FREQ=YEARLY;BYMONTH=10;BYDAY=-1SU
DTSTART:19961027T030000
TZNAME:UTC+1
TZOFFSETTO:+0100
END:STANDARD
END:VTIMEZONE
BEGIN:VEVENT
UID:5169
DTSTART;TZID=Europe/Paris:20250313T083000
DTEND;TZID=Europe/Paris:20250313T170000
DTSTAMP;TZID=Europe/Paris:20260424T161021
LOCATION:Vesoul
SUMMARY:Challenge InnovaTech© 2025 Bourgogne Franche Comté : Inscrivez-vous
DESCRIPTION:Organisé par votre Délégation Régionale Bourgogne Franche Comté, le Challenge InnovaTech© se tiendra le jeudi 13 mars de 8h30 à 17h00  à l'IUT de Vesoul Vaivre. Ce Challenge est ouvert aux marraines, étudiantes et lycéennes. En quelques mots le Challenge...
URL;VALUE=URI:https://www.ellesbougent.com/agenda/calendrier/challenge-innovatech-2025-bourgogne-franche-comte-inscrivez-vous-5169/
SEQUENCE:0
END:VEVENT
END:VCALENDAR
