BEGIN:VCALENDAR
METHOD:PUBLISH
VERSION:2.0
CALSCALE:GREGORIAN
BEGIN:VTIMEZONE
TZID:Europe/Paris
BEGIN:DAYLIGHT
TZOFFSETFROM:+0100
RRULE:FREQ=YEARLY;BYMONTH=3;BYDAY=-1SU
DTSTART:19810329T020000
TZNAME:UTC+2
TZOFFSETTO:+0200
END:DAYLIGHT
BEGIN:STANDARD
TZOFFSETFROM:+0200
RRULE:FREQ=YEARLY;BYMONTH=10;BYDAY=-1SU
DTSTART:19961027T030000
TZNAME:UTC+1
TZOFFSETTO:+0100
END:STANDARD
END:VTIMEZONE
BEGIN:VEVENT
UID:6128
DTSTART;TZID=Europe/Paris:20251120T090000
DTEND;TZID=Europe/Paris:20251120T120000
DTSTAMP;TZID=Europe/Paris:20260424T132807
LOCATION:Reims
SUMMARY:Cap sur l’Espace avec Elles Bougent - Découvrez les métiers de l'aérospatial
DESCRIPTION:Dans le cadre de la Semaine de l'Industrie, Latitude et l'association Elles Bougent t'invitent à découvrir l'univers de l'industrie et de l'aérospatial. Viens rencontrer des femmes et des hommes passionné·e·s par leur métier, échanger avec eux, poser tes...
URL;VALUE=URI:https://www.ellesbougent.com/agenda/calendrier/cap-sur-espace-avec-elles-bougent-decouvrez-les-metiers-de-aerospatial-6128/
SEQUENCE:0
END:VEVENT
END:VCALENDAR
