BEGIN:VCALENDAR
METHOD:PUBLISH
VERSION:2.0
CALSCALE:GREGORIAN
BEGIN:VTIMEZONE
TZID:Europe/Paris
BEGIN:DAYLIGHT
TZOFFSETFROM:+0100
RRULE:FREQ=YEARLY;BYMONTH=3;BYDAY=-1SU
DTSTART:19810329T020000
TZNAME:UTC+2
TZOFFSETTO:+0200
END:DAYLIGHT
BEGIN:STANDARD
TZOFFSETFROM:+0200
RRULE:FREQ=YEARLY;BYMONTH=10;BYDAY=-1SU
DTSTART:19961027T030000
TZNAME:UTC+1
TZOFFSETTO:+0100
END:STANDARD
END:VTIMEZONE
BEGIN:VEVENT
UID:6418
DTSTART;TZID=Europe/Paris:20251119T090000
DTEND;TZID=Europe/Paris:20251119T120000
DTSTAMP;TZID=Europe/Paris:20260424T131906
LOCATION:Toulouse Cedex
SUMMARY:Bienvenue dans l’aventure IT & Industrie 4.0 avec Inetum !
DESCRIPTION:Un programme 100 % girl power pour explorer les coulisses de la tech et du conseil, et découvrir comment les femmes transforment le monde industriel grâce à l'innovation.   Au programme :   Serious Gaming &amp; plateformes digitales   Et si apprendre devenait...
URL;VALUE=URI:https://www.ellesbougent.com/agenda/calendrier/bienvenue-dans-aventure-it-industrie-4-0-avec-inetum-6418/
SEQUENCE:0
END:VEVENT
END:VCALENDAR
