BEGIN:VCALENDAR
METHOD:PUBLISH
VERSION:2.0
CALSCALE:GREGORIAN
BEGIN:VTIMEZONE
TZID:Europe/Paris
BEGIN:DAYLIGHT
TZOFFSETFROM:+0100
RRULE:FREQ=YEARLY;BYMONTH=3;BYDAY=-1SU
DTSTART:19810329T020000
TZNAME:UTC+2
TZOFFSETTO:+0200
END:DAYLIGHT
BEGIN:STANDARD
TZOFFSETFROM:+0200
RRULE:FREQ=YEARLY;BYMONTH=10;BYDAY=-1SU
DTSTART:19961027T030000
TZNAME:UTC+1
TZOFFSETTO:+0100
END:STANDARD
END:VTIMEZONE
BEGIN:VEVENT
UID:6309
DTSTART;TZID=Europe/Paris:20251118T090000
DTEND;TZID=Europe/Paris:20251118T133000
DTSTAMP;TZID=Europe/Paris:20260424T132255
LOCATION:Créteil
SUMMARY:Bienvenue chez Valeo Brain Division @Créteil !
DESCRIPTION:9h00 : Accueil / petit-déjeuner &amp; Présentation de Valeo et de l'association Elles Bougent 9h45 - 10h15 : Présentation des marraines 10h15 - 10h30 : Pause 10h30 - 12h00 : Présentation de démos 12h00 - 12h30 : Questions / réponses -...
URL;VALUE=URI:https://www.ellesbougent.com/agenda/calendrier/bienvenue-chez-valeo-brain-division-creteil-6309/
SEQUENCE:0
END:VEVENT
END:VCALENDAR
