BEGIN:VCALENDAR
METHOD:PUBLISH
VERSION:2.0
CALSCALE:GREGORIAN
BEGIN:VTIMEZONE
TZID:Europe/Paris
BEGIN:DAYLIGHT
TZOFFSETFROM:+0100
RRULE:FREQ=YEARLY;BYMONTH=3;BYDAY=-1SU
DTSTART:19810329T020000
TZNAME:UTC+2
TZOFFSETTO:+0200
END:DAYLIGHT
BEGIN:STANDARD
TZOFFSETFROM:+0200
RRULE:FREQ=YEARLY;BYMONTH=10;BYDAY=-1SU
DTSTART:19961027T030000
TZNAME:UTC+1
TZOFFSETTO:+0100
END:STANDARD
END:VTIMEZONE
BEGIN:VEVENT
UID:6037
DTSTART;TZID=Europe/Paris:20251120T133000
DTEND;TZID=Europe/Paris:20251120T170000
DTSTAMP;TZID=Europe/Paris:20260424T133719
LOCATION:Gien
SUMMARY:Avec les femmes d’Otis\, découvrez les dessous des ascenseurs Otis
DESCRIPTION:Avec environ 13 000 appareils expédiés en moyenne chaque année en Europe et au Moyen-Orient, l'usine de Gien joue un rôle essentiel pour l'activité d'Otis dans le monde. Le site dispose de deux tours d'essai de 40 mètres de haut, et d'une installation unique...
URL;VALUE=URI:https://www.ellesbougent.com/agenda/calendrier/avec-les-femmes-otis-decouvrez-les-dessous-des-ascenseurs-otis-6037/
SEQUENCE:0
END:VEVENT
END:VCALENDAR
