BEGIN:VCALENDAR
METHOD:PUBLISH
VERSION:2.0
CALSCALE:GREGORIAN
BEGIN:VTIMEZONE
TZID:Europe/Paris
BEGIN:DAYLIGHT
TZOFFSETFROM:+0100
RRULE:FREQ=YEARLY;BYMONTH=3;BYDAY=-1SU
DTSTART:19810329T020000
TZNAME:UTC+2
TZOFFSETTO:+0200
END:DAYLIGHT
BEGIN:STANDARD
TZOFFSETFROM:+0200
RRULE:FREQ=YEARLY;BYMONTH=10;BYDAY=-1SU
DTSTART:19961027T030000
TZNAME:UTC+1
TZOFFSETTO:+0100
END:STANDARD
END:VTIMEZONE
BEGIN:VEVENT
UID:6452
DTSTART;TZID=Europe/Paris:20251121T093000
DTEND;TZID=Europe/Paris:20251121T120000
DTSTAMP;TZID=Europe/Paris:20260424T133924
LOCATION:Les Mureaux
SUMMARY:Au coeur du site d'ArianeGroup : découvrez les activités du site des Mureaux\, échangez avec nos ingénieur·e·s et technicien·ne·s
DESCRIPTION:Le site des Mureaux d'ArianeGroup est un lieu de conception, d'études, de réalisation et d'essais du lanceur Ariane 6. Venez découvrir de plus près tous les savoir-faire développés par ArianeGroup tant au travers de présentation que de visites d'ateliers et...
URL;VALUE=URI:https://www.ellesbougent.com/agenda/calendrier/au-coeur-du-site-arianegroup-decouvrez-les-activites-du-site-des-mureaux-echangez-avec-nos-ingenieur-e-s-et-technicien-ne-s-6452/
SEQUENCE:0
END:VEVENT
END:VCALENDAR
