BEGIN:VCALENDAR
METHOD:PUBLISH
VERSION:2.0
CALSCALE:GREGORIAN
BEGIN:VTIMEZONE
TZID:Europe/Paris
BEGIN:DAYLIGHT
TZOFFSETFROM:+0100
RRULE:FREQ=YEARLY;BYMONTH=3;BYDAY=-1SU
DTSTART:19810329T020000
TZNAME:UTC+2
TZOFFSETTO:+0200
END:DAYLIGHT
BEGIN:STANDARD
TZOFFSETFROM:+0200
RRULE:FREQ=YEARLY;BYMONTH=10;BYDAY=-1SU
DTSTART:19961027T030000
TZNAME:UTC+1
TZOFFSETTO:+0100
END:STANDARD
END:VTIMEZONE
BEGIN:VEVENT
UID:6394
DTSTART;TZID=Europe/Paris:20251118T130000
DTEND;TZID=Europe/Paris:20251118T170000
DTSTAMP;TZID=Europe/Paris:20260424T134034
LOCATION:Vernon
SUMMARY:Au coeur du site d'ArianeGroup : découvrez les activités du site de Vernon\, échangez avec nos ingénieur·e·s et technicien·ne·s
DESCRIPTION:Le site ArianeGroup de Vernon conçoit, intègre et teste l'ensemble de ses moteurs cryotechniques pour lanceurs spatiaux, dont les moteurs à oxygène et hydrogène liquides Vulcain 2.1 et Vinci pour Ariane 6. Venez découvrir de plus près tous les savoir-faire...
URL;VALUE=URI:https://www.ellesbougent.com/agenda/calendrier/au-coeur-du-site-arianegroup-decouvrez-les-activites-du-site-de-vernon-echangez-avec-nos-ingenieur-e-s-et-technicien-ne-s-6394/
SEQUENCE:0
END:VEVENT
END:VCALENDAR
