BEGIN:VCALENDAR
METHOD:PUBLISH
VERSION:2.0
CALSCALE:GREGORIAN
BEGIN:VTIMEZONE
TZID:Europe/Paris
BEGIN:DAYLIGHT
TZOFFSETFROM:+0100
RRULE:FREQ=YEARLY;BYMONTH=3;BYDAY=-1SU
DTSTART:19810329T020000
TZNAME:UTC+2
TZOFFSETTO:+0200
END:DAYLIGHT
BEGIN:STANDARD
TZOFFSETFROM:+0200
RRULE:FREQ=YEARLY;BYMONTH=10;BYDAY=-1SU
DTSTART:19961027T030000
TZNAME:UTC+1
TZOFFSETTO:+0100
END:STANDARD
END:VTIMEZONE
BEGIN:VEVENT
UID:6374
DTSTART;TZID=Europe/Paris:20251118T093000
DTEND;TZID=Europe/Paris:20251118T153000
DTSTAMP;TZID=Europe/Paris:20260424T134053
LOCATION:Saint-Médard-En-Jalles
SUMMARY:Au coeur du site d'ArianeGroup : découvrez les activités du site de Saint-Médard-en-Jalles\, échangez avec nos ingénieur·e·s et technicien·ne·s
DESCRIPTION:Au coeur du site d'ArianeGroup : découvrez les activités du site de Saint-Médard-en-Jalles, échangez avec nos ingénieur·e·s et technicien·ne·s
URL;VALUE=URI:https://www.ellesbougent.com/agenda/calendrier/au-coeur-du-site-arianegroup-decouvrez-les-activites-du-site-de-saint-medard-en-jalles-echangez-avec-nos-ingenieur-e-s-et-technicien-ne-s-6374/
SEQUENCE:0
END:VEVENT
END:VCALENDAR
