BEGIN:VCALENDAR
METHOD:PUBLISH
VERSION:2.0
CALSCALE:GREGORIAN
BEGIN:VTIMEZONE
TZID:Europe/Paris
BEGIN:DAYLIGHT
TZOFFSETFROM:+0100
RRULE:FREQ=YEARLY;BYMONTH=3;BYDAY=-1SU
DTSTART:19810329T020000
TZNAME:UTC+2
TZOFFSETTO:+0200
END:DAYLIGHT
BEGIN:STANDARD
TZOFFSETFROM:+0200
RRULE:FREQ=YEARLY;BYMONTH=10;BYDAY=-1SU
DTSTART:19961027T030000
TZNAME:UTC+1
TZOFFSETTO:+0100
END:STANDARD
END:VTIMEZONE
BEGIN:VEVENT
UID:6045
DTSTART;TZID=Europe/Paris:20251120T090000
DTEND;TZID=Europe/Paris:20251120T143000
DTSTAMP;TZID=Europe/Paris:20260424T131524
LOCATION:CLERMONT-FERRAND
SUMMARY:Au coeur de la fabrication
DESCRIPTION:Bonjour, Nous vous proposons de vous plonger au coeur de l'usine de Cataroux pour découvrir quelques métiers techniques et industriels. Cette journée sera un mélange de découverte et d'échanges grâce à l'intervention de nos marraines (techniciennes,...
URL;VALUE=URI:https://www.ellesbougent.com/agenda/calendrier/au-coeur-de-la-fabrication-6045/
SEQUENCE:0
END:VEVENT
END:VCALENDAR
