BEGIN:VCALENDAR
METHOD:PUBLISH
VERSION:2.0
CALSCALE:GREGORIAN
BEGIN:VTIMEZONE
TZID:Europe/Paris
BEGIN:DAYLIGHT
TZOFFSETFROM:+0100
RRULE:FREQ=YEARLY;BYMONTH=3;BYDAY=-1SU
DTSTART:19810329T020000
TZNAME:UTC+2
TZOFFSETTO:+0200
END:DAYLIGHT
BEGIN:STANDARD
TZOFFSETFROM:+0200
RRULE:FREQ=YEARLY;BYMONTH=10;BYDAY=-1SU
DTSTART:19961027T030000
TZNAME:UTC+1
TZOFFSETTO:+0100
END:STANDARD
END:VTIMEZONE
BEGIN:VEVENT
UID:1949
DTSTART;TZID=Europe/Paris:20190524T133000
DTEND;TZID=Europe/Paris:20190524T150000
DTSTAMP;TZID=Europe/Paris:20260419T150411
LOCATION:Ecole primaire Claude Vellefaux/Paris
SUMMARY:atelier "Les métiers de l'industrie et des sciences au féminin"
DESCRIPTION:Recherchons Marraines pour intervention en classe de primaire Quand : vendredi 24 mai de 13 h 30 à 15 h 00 pour les CE2/ CM1C  Où :École élémentaire CLAUDE VELLEFAUX33 Avenue Claude Vellefaux - 75010 Paris 01 42 08 99 43 Public Visé : Classe des...
URL;VALUE=URI:https://www.ellesbougent.com/agenda/calendrier/atelier-les-metiers-de-industrie-et-des-sciences-au-feminin-1949/
SEQUENCE:0
END:VEVENT
END:VCALENDAR
