BEGIN:VCALENDAR
METHOD:PUBLISH
VERSION:2.0
CALSCALE:GREGORIAN
BEGIN:VTIMEZONE
TZID:Europe/Paris
BEGIN:DAYLIGHT
TZOFFSETFROM:+0100
RRULE:FREQ=YEARLY;BYMONTH=3;BYDAY=-1SU
DTSTART:19810329T020000
TZNAME:UTC+2
TZOFFSETTO:+0200
END:DAYLIGHT
BEGIN:STANDARD
TZOFFSETFROM:+0200
RRULE:FREQ=YEARLY;BYMONTH=10;BYDAY=-1SU
DTSTART:19961027T030000
TZNAME:UTC+1
TZOFFSETTO:+0100
END:STANDARD
END:VTIMEZONE
BEGIN:VEVENT
UID:6293
DTSTART;TZID=Europe/Paris:20251119T140000
DTEND;TZID=Europe/Paris:20251119T180000
DTSTAMP;TZID=Europe/Paris:20260424T133750
LOCATION:Strasbourg
SUMMARY:Artelia x Elles bougent : Innovations Urbaines au Féminin - 2e édition
DESCRIPTION:Participez au Grand Atelier “Innovations Urbaines au Féminin” – Semaine de l'Industrie 2025 à Strasbourg ! Vous êtes lycéen(ne) ou étudiant(e) passionné(e) par les sciences, la technologie, l'environnement ou la ville de demain ? Venez vivre une...
URL;VALUE=URI:https://www.ellesbougent.com/agenda/calendrier/artelia-x-elles-bougent-innovations-urbaines-au-feminin-2e-edition-6293/
SEQUENCE:0
END:VEVENT
END:VCALENDAR
