BEGIN:VCALENDAR
METHOD:PUBLISH
VERSION:2.0
CALSCALE:GREGORIAN
BEGIN:VTIMEZONE
TZID:Europe/Paris
BEGIN:DAYLIGHT
TZOFFSETFROM:+0100
RRULE:FREQ=YEARLY;BYMONTH=3;BYDAY=-1SU
DTSTART:19810329T020000
TZNAME:UTC+2
TZOFFSETTO:+0200
END:DAYLIGHT
BEGIN:STANDARD
TZOFFSETFROM:+0200
RRULE:FREQ=YEARLY;BYMONTH=10;BYDAY=-1SU
DTSTART:19961027T030000
TZNAME:UTC+1
TZOFFSETTO:+0100
END:STANDARD
END:VTIMEZONE
BEGIN:VEVENT
UID:8093
DTSTART;TZID=Europe/Paris:20260506T090000
DTEND;TZID=Europe/Paris:20260506T150000
DTSTAMP;TZID=Europe/Paris:20260419T223116
LOCATION:Aluminium Dunkerque
SUMMARY:Aluminium Dunkerque Job Dating –mercredi 6 mai 2026
DESCRIPTION:Aluminium Dunkerque organise un job Dating au sein de leur entreprise Les marraines présenteront leur métier et l'association Elles bougent Pour information, ils ont 16 besoins en alternance, dont 10 en production (5 contrats AD / 5 contrats AE) et 6 en maintenance...
URL;VALUE=URI:https://www.ellesbougent.com/agenda/calendrier/aluminium-dunkerque-job-dating-mercredi-6-mai-2026-8093/
SEQUENCE:0
END:VEVENT
END:VCALENDAR
