BEGIN:VCALENDAR
METHOD:PUBLISH
VERSION:2.0
CALSCALE:GREGORIAN
BEGIN:VTIMEZONE
TZID:Europe/Paris
BEGIN:DAYLIGHT
TZOFFSETFROM:+0100
RRULE:FREQ=YEARLY;BYMONTH=3;BYDAY=-1SU
DTSTART:19810329T020000
TZNAME:UTC+2
TZOFFSETTO:+0200
END:DAYLIGHT
BEGIN:STANDARD
TZOFFSETFROM:+0200
RRULE:FREQ=YEARLY;BYMONTH=10;BYDAY=-1SU
DTSTART:19961027T030000
TZNAME:UTC+1
TZOFFSETTO:+0100
END:STANDARD
END:VTIMEZONE
BEGIN:VEVENT
UID:2390
DTSTART;TZID=Europe/Paris:20220209T183000
DTEND;TZID=Europe/Paris:20220209T200000
DTSTAMP;TZID=Europe/Paris:20260419T111459
LOCATION:Virtuel Lien Teams
SUMMARY:Afterwork de la Délégation Ile-de-France - Février 2022
DESCRIPTION:Chères marraines, chers relais, La délégation Ile-de-France a le plaisir de vous inviter à son afterwork virtuel, qui aura lieu le mercredi 9 février, à partir de 18h30.  Actualités et programme des prochains mois Zoom sur le Challenge InnovaTech© en...
URL;VALUE=URI:https://www.ellesbougent.com/agenda/calendrier/afterwork-de-la-delegation-ile-de-france-fevrier-2022-2390/
SEQUENCE:0
END:VEVENT
END:VCALENDAR
