BEGIN:VCALENDAR
METHOD:PUBLISH
VERSION:2.0
CALSCALE:GREGORIAN
BEGIN:VTIMEZONE
TZID:Europe/Paris
BEGIN:DAYLIGHT
TZOFFSETFROM:+0100
RRULE:FREQ=YEARLY;BYMONTH=3;BYDAY=-1SU
DTSTART:19810329T020000
TZNAME:UTC+2
TZOFFSETTO:+0200
END:DAYLIGHT
BEGIN:STANDARD
TZOFFSETFROM:+0200
RRULE:FREQ=YEARLY;BYMONTH=10;BYDAY=-1SU
DTSTART:19961027T030000
TZNAME:UTC+1
TZOFFSETTO:+0100
END:STANDARD
END:VTIMEZONE
BEGIN:VEVENT
UID:6295
DTSTART;TZID=Europe/Paris:20251118T140000
DTEND;TZID=Europe/Paris:20251118T170000
DTSTAMP;TZID=Europe/Paris:20260424T133004
LOCATION:Aix-en-Provence
SUMMARY:A la rencontre de nos ingénieures - Chez Systerel
DESCRIPTION:Systerel, bureau d'études spécialisé dans les systèmes embarqués critiques principalement pour le ferroviaire, l'industrie ou l'énergie, ouvre ses portes aux lycéennes et étudiantes ! Nous sommes une PME d'environ 120 personnes (dont près de 80 à...
URL;VALUE=URI:https://www.ellesbougent.com/agenda/calendrier/a-la-rencontre-de-nos-ingenieures-chez-systerel-6295/
SEQUENCE:0
END:VEVENT
END:VCALENDAR
