BEGIN:VCALENDAR
METHOD:PUBLISH
VERSION:2.0
CALSCALE:GREGORIAN
BEGIN:VTIMEZONE
TZID:Europe/Paris
BEGIN:DAYLIGHT
TZOFFSETFROM:+0100
RRULE:FREQ=YEARLY;BYMONTH=3;BYDAY=-1SU
DTSTART:19810329T020000
TZNAME:UTC+2
TZOFFSETTO:+0200
END:DAYLIGHT
BEGIN:STANDARD
TZOFFSETFROM:+0200
RRULE:FREQ=YEARLY;BYMONTH=10;BYDAY=-1SU
DTSTART:19961027T030000
TZNAME:UTC+1
TZOFFSETTO:+0100
END:STANDARD
END:VTIMEZONE
BEGIN:VEVENT
UID:6571
DTSTART;TZID=Europe/Paris:20251120T090000
DTEND;TZID=Europe/Paris:20251120T120000
DTSTAMP;TZID=Europe/Paris:20260424T132037
LOCATION:MOLSHEIM
SUMMARY:A la découverte de Safran Landing Systems Molsheim et ses métiers
DESCRIPTION:Découvrez le site Safran Landing Systems de Molsheim le temps d'une matinée !Au programme : • Accueil et petit déjeuner en salle (présentation site, activités, produits)• Présentation par plusieurs intervenantes de leur parcours (études, choix...
URL;VALUE=URI:https://www.ellesbougent.com/agenda/calendrier/a-la-decouverte-de-safran-landing-systems-molsheim-et-ses-metiers-6571/
SEQUENCE:0
END:VEVENT
END:VCALENDAR
